BEGIN:VCALENDAR
VERSION:2.0
PRODID:-//Clearwater Marine Aquarium - ECPv5.2.1//NONSGML v1.0//EN
CALSCALE:GREGORIAN
METHOD:PUBLISH
X-WR-CALNAME:Clearwater Marine Aquarium
X-ORIGINAL-URL:https://www.cmaquarium.org
X-WR-CALDESC:Events for Clearwater Marine Aquarium
BEGIN:VTIMEZONE
TZID:America/New_York
BEGIN:DAYLIGHT
TZOFFSETFROM:-0500
TZOFFSETTO:-0400
TZNAME:EDT
DTSTART:20170312T070000
END:DAYLIGHT
BEGIN:STANDARD
TZOFFSETFROM:-0400
TZOFFSETTO:-0500
TZNAME:EST
DTSTART:20171105T060000
END:STANDARD
END:VTIMEZONE
BEGIN:VEVENT
DTSTART;TZID=America/New_York:20170608T000000
DTEND;TZID=America/New_York:20170608T235900
DTSTAMP:20260423T122626
CREATED:20170530T183012Z
LAST-MODIFIED:20180730T165725Z
UID:8039-1496880000-1496966340@www.cmaquarium.org
SUMMARY:World Oceans Day
DESCRIPTION:Experience Details\n\n\n\n\n\n\n\n\nAbout the Event\n\n\nWorld Oceans Day is a global day of ocean celebration and collaboration for a better future. \nLearn ways you can reduce plastic trash and help keep our oceans healthy. \nARE YOU AN OCEAN WARRIOR?Find out just how much you know about plastic pollution. Take our quiz to find out if you are an ocean warrior! \nTake Quiz \nMAKE A PLEDGE \nPledge now to keep our oceans clean and plastic free! \nPledge Now \nLearn more at www.worldoceansday.org.
URL:https://www.cmaquarium.org/event/world-oceans-day/
LOCATION:Clearwater Marine Aquarium\, 249 Windward Passage\, Clearwater\, FL\, 33767\, United States
CATEGORIES:Education
END:VEVENT
END:VCALENDAR