BEGIN:VCALENDAR
VERSION:2.0
PRODID:-//Clearwater Marine Aquarium - ECPv5.2.1//NONSGML v1.0//EN
CALSCALE:GREGORIAN
METHOD:PUBLISH
X-WR-CALNAME:Clearwater Marine Aquarium
X-ORIGINAL-URL:https://www.cmaquarium.org
X-WR-CALDESC:Events for Clearwater Marine Aquarium
BEGIN:VTIMEZONE
TZID:America/New_York
BEGIN:DAYLIGHT
TZOFFSETFROM:-0500
TZOFFSETTO:-0400
TZNAME:EDT
DTSTART:20260308T070000
END:DAYLIGHT
BEGIN:STANDARD
TZOFFSETFROM:-0400
TZOFFSETTO:-0500
TZNAME:EST
DTSTART:20261101T060000
END:STANDARD
END:VTIMEZONE
BEGIN:VEVENT
DTSTART;TZID=America/New_York:20260606T100000
DTEND;TZID=America/New_York:20260606T140000
DTSTAMP:20260424T072909
CREATED:20260423T202224Z
LAST-MODIFIED:20260423T205558Z
UID:71723-1780740000-1780754400@www.cmaquarium.org
SUMMARY:World Oceans Day Celebration
DESCRIPTION:Join us on Saturday\, June 6th\, for a day of discovery\, conservation\, and community action. \n\n\n\n\n\n\n\nAbout the Event\n\n\n\nProtecting our blue planet starts with us. This year\, Clearwater Marine Aquarium (CMA) is proud to partner with Keep Pinellas Beautiful and the Tampa Bay Roots & Shoots Alliance to host a premier World Oceans Day celebration. \n\n\n\nWhether you’re a local resident or visiting Clearwater Beach\, this is your chance to meet the people behind Tampa Bay’s marine conservation efforts and learn how you can make a tangible difference in ocean health. \n\n\n\nWhen: Saturday\, June 6th | 10:00 a.m. – 2:00 p.m.Where: Clearwater Marine Aquarium – 249 Windward Passage\, Clearwater\, FL 33767Parking: On-site parking is $15.00. Street parking is first come first serve\, and additional parking is available in downtown Clearwater with trolley service to/from CMA.Price: FREE to attend the World Oceans Day eventBonus: Attendees receive 20% off regular aquarium admission to explore the rest of CMA\n\n\n\nWhy Attend?\n\n\n\nConnect with 50 Exhibitors \n\n\n\nThe 4th-floor ballroom will be transformed into an educational hub. Meet representatives from 50 local and national exhibitors\, including: \n\n\n\nOcean Conservancy & Sea Turtle Trackers: Learn about habitat protection.Sharks4Kids & Save the Manatees: Deep dive into species-specific rescue.Jane Goodall Institute (Roots & Shoots): Discover youth-led environmental projects.Local Experts: Including Audubon Florida\, Seaside Seabird Sanctuary\, and Tampa Bay Watch.\n\n\n\nExclusive Admission Discount \n\n\n\nEntry to the World Oceans Day ballroom event is completely free (enter through the 4th floor of the parking garage). Once you’ve finished visiting the exhibitors\, stop by the Virtual Reality booth on the 4th floor to claim your 20% discount on aquarium tickets. \n\n\n\nFamily-Friendly Learning \n\n\n\nFrom interactive booths by the St. Petersburg College STEM Center to hands-on displays from Sensing Nature\, there is something to inspire every future marine biologist. \n\n\n\n\n\n\n\n\n\n\n\n\n\nREGISTER
URL:https://www.cmaquarium.org/event/world-oceans-day-celebration-2026/
LOCATION:Clearwater Marine Aquarium\, 249 Windward Passage\, Clearwater\, FL\, 33767\, United States
CATEGORIES:Community
ATTACH;FMTTYPE=image/jpeg:https://www.cmaquarium.org/app/uploads/2026/04/World-Oceans-Day-Thumbnail.jpg
END:VEVENT
END:VCALENDAR