BEGIN:VCALENDAR
VERSION:2.0
PRODID:-//Clearwater Marine Aquarium - ECPv5.2.1//NONSGML v1.0//EN
CALSCALE:GREGORIAN
METHOD:PUBLISH
X-WR-CALNAME:Clearwater Marine Aquarium
X-ORIGINAL-URL:https://www.cmaquarium.org
X-WR-CALDESC:Events for Clearwater Marine Aquarium
BEGIN:VTIMEZONE
TZID:America/New_York
BEGIN:DAYLIGHT
TZOFFSETFROM:-0500
TZOFFSETTO:-0400
TZNAME:EDT
DTSTART:20200308T070000
END:DAYLIGHT
BEGIN:STANDARD
TZOFFSETFROM:-0400
TZOFFSETTO:-0500
TZNAME:EST
DTSTART:20201101T060000
END:STANDARD
END:VTIMEZONE
BEGIN:VEVENT
DTSTART;TZID=America/New_York:20200131T100000
DTEND;TZID=America/New_York:20200202T180000
DTSTAMP:20260422T133935
CREATED:20200122T214800Z
LAST-MODIFIED:20200130T155000Z
UID:35841-1580464800-1580666400@www.cmaquarium.org
SUMMARY:Winter's Tail-Gate Weekend Deal
DESCRIPTION:Experience Details\n\n\n\n\n\n\n\n\n\n\nAbout the Event\n\n\nVisit CMA Jan. 31-Feb. 2 for Winter’s Tail-Gate Weekend Deal! \nReceive 1/2 priced admission* when wearing your favorite NFL team logo apparel in celebration of Sunday’s big game! \n*Offer available at Ticketing with NFL football logo apparel. Discount applies to regular-priced admission only\, not combinable with any other offer. Offer subject to change. 
URL:https://www.cmaquarium.org/event/winters-tail-gate-weekend-deal-2020/
LOCATION:Clearwater Marine Aquarium\, 249 Windward Passage\, Clearwater\, FL\, 33767\, United States
CATEGORIES:Special Events
ATTACH;FMTTYPE=image/jpeg:https://www.cmaquarium.org/app/uploads/2020/01/Tail-Gate-Weekend-1080x1080-1.jpg
END:VEVENT
END:VCALENDAR