BEGIN:VCALENDAR
VERSION:2.0
PRODID:-//Clearwater Marine Aquarium - ECPv5.2.1//NONSGML v1.0//EN
CALSCALE:GREGORIAN
METHOD:PUBLISH
X-WR-CALNAME:Clearwater Marine Aquarium
X-ORIGINAL-URL:https://www.cmaquarium.org
X-WR-CALDESC:Events for Clearwater Marine Aquarium
BEGIN:VTIMEZONE
TZID:UTC
BEGIN:STANDARD
TZOFFSETFROM:+0000
TZOFFSETTO:+0000
TZNAME:UTC
DTSTART:20210101T000000
END:STANDARD
END:VTIMEZONE
BEGIN:VEVENT
DTSTART;TZID=UTC:20211126T000000
DTEND;TZID=UTC:20211127T235959
DTSTAMP:20260422T103045
CREATED:20211004T154853Z
LAST-MODIFIED:20211011T150038Z
UID:48561-1637884800-1638057599@www.cmaquarium.org
SUMMARY:Sunset Sea of Thanks Boat Tour
DESCRIPTION:Join us on our Sunset Sea of Thanks Tour to watch a beautiful Clearwater sunset!  \n\n\n\n\n\n\n\n\n\nBUY TICKETS\n\n\n\n\n\n\n\n\n\nAbout the Event\n\n\n\nBoat Time: 4:30 p.m. \n\n\n\nOn November 26 and November 27\, bring your friends and family aboard the Sunset Sea of Thanks boat tour! During this 90-minute eco-boat tour\, watch the sunset and learn why we are thankful for the local wildlife in beautiful Clearwater Bay. \n\n\n\nPrice: $34.99 Per Person  \n\n\n\nAdults 21+ enjoy complimentary beer or wine; non-alcoholic beverages are also available. Limit 2 per person.  \n\n\n\nTickets do not include admission to the aquarium.  \n\n\n\n\nBUY TICKETS\n\n\n\n\nCMA has implemented significant additional safety precautions to protect staff\, animals\, and guests while ensuring a fun and educational visit with limited guests. \n\n\n\nPrices\, dates\, times and other details subject to change.
URL:https://www.cmaquarium.org/event/sunset-sea-of-thanks-boat-tour/
LOCATION:Clearwater Marine Aquarium\, 249 Windward Passage\, Clearwater\, FL\, 33767\, United States
CATEGORIES:Holidays at CMA
ATTACH;FMTTYPE=image/jpeg:https://www.cmaquarium.org/app/uploads/2021/02/15C093D5-2E46-43E1-A2DF-B9D728EEA8FF_1_201_a-scaled.jpeg
END:VEVENT
END:VCALENDAR