BEGIN:VCALENDAR
VERSION:2.0
PRODID:-//Clearwater Marine Aquarium - ECPv5.2.1//NONSGML v1.0//EN
CALSCALE:GREGORIAN
METHOD:PUBLISH
X-WR-CALNAME:Clearwater Marine Aquarium
X-ORIGINAL-URL:https://www.cmaquarium.org
X-WR-CALDESC:Events for Clearwater Marine Aquarium
BEGIN:VTIMEZONE
TZID:America/New_York
BEGIN:DAYLIGHT
TZOFFSETFROM:-0500
TZOFFSETTO:-0400
TZNAME:EDT
DTSTART:20230312T070000
END:DAYLIGHT
BEGIN:STANDARD
TZOFFSETFROM:-0400
TZOFFSETTO:-0500
TZNAME:EST
DTSTART:20231105T060000
END:STANDARD
END:VTIMEZONE
BEGIN:VEVENT
DTSTART;TZID=America/New_York:20230618T134500
DTEND;TZID=America/New_York:20230618T143000
DTSTAMP:20260422T135914
CREATED:20230524T022722Z
LAST-MODIFIED:20230628T190826Z
UID:54858-1687095900-1687098600@www.cmaquarium.org
SUMMARY:Summer of Science: Squid Dissection
DESCRIPTION:Join us as we explore the internal and external anatomy of a squid as you participate in an interactive 30-45 minute dissection. \n\n\n\n\n\n\n\n\n\nGET TICKETS \n\n\n\n\n\n\n\n\n\nAbout the Program \n\n\n\nLearn about the special adaptations these creatures possess to help them survive and hunt in the dark. Discover the important place squid hold in the food chain and which animals enjoy squid as a part of their diet here at CMA! Gloves and tools provided. \n\n\n\nMinimum Age: 10 years old. All guests under 18 must be accompanied by an adult. \n\n\n\nPrice: $10.00 \n\n\n\n\nBOOK NOW\n\n\n\n\nProgram details subject to change.
URL:https://www.cmaquarium.org/event/summer-of-science-squid-dissection/2023-06-18/
LOCATION:Clearwater Marine Aquarium\, 249 Windward Passage\, Clearwater\, FL\, 33767\, United States
ATTACH;FMTTYPE=image/jpeg:https://www.cmaquarium.org/app/uploads/2023/05/kate-estes-_T1jj2L60_c-unsplash-scaled.jpg
END:VEVENT
END:VCALENDAR