BEGIN:VCALENDAR
VERSION:2.0
PRODID:-//Clearwater Marine Aquarium - ECPv5.2.1//NONSGML v1.0//EN
CALSCALE:GREGORIAN
METHOD:PUBLISH
X-WR-CALNAME:Clearwater Marine Aquarium
X-ORIGINAL-URL:https://www.cmaquarium.org
X-WR-CALDESC:Events for Clearwater Marine Aquarium
BEGIN:VTIMEZONE
TZID:America/New_York
BEGIN:DAYLIGHT
TZOFFSETFROM:-0500
TZOFFSETTO:-0400
TZNAME:EDT
DTSTART:20170312T070000
END:DAYLIGHT
BEGIN:STANDARD
TZOFFSETFROM:-0400
TZOFFSETTO:-0500
TZNAME:EST
DTSTART:20171105T060000
END:STANDARD
END:VTIMEZONE
BEGIN:VEVENT
DTSTART;TZID=America/New_York:20170220T120000
DTEND;TZID=America/New_York:20170220T140000
DTSTAMP:20260422T054558
CREATED:20170215T153254Z
LAST-MODIFIED:20180730T165039Z
UID:5862-1487592000-1487599200@www.cmaquarium.org
SUMMARY:Sea Turtle Lighting Workshop
DESCRIPTION:Experience Details\n\n\n\n\n\n\n\nWhy Sea Turtles “Dig the Dark” – Reducing the Impact of Artificial Lighting\nSea turtles are one of Florida’s most unique and awe-inspiring inhabitants. Unfortunately\, habitat degradation due to artificial lighting is one of the major hindrances to the recovery of sea turtle populations. Come and learn about the basics of sea turtle biology\, examine the relationship between sea turtles and lighting\, and find out why artificial lighting is so detrimental to both adult and hatchling turtles. You will also learn how to use the “Golden Rules” of lighting to make your own home turtle friendly. \nRegister for this FREE event.  \nRegister \nThis event does not include admission to Clearwater Marine Aquarium and is located at Winter’s Dolphin Tale Adventure in downtown Clearwater.
URL:https://www.cmaquarium.org/event/sea-turtle-lighting-workshop/
CATEGORIES:Workshop,Education
END:VEVENT
END:VCALENDAR