BEGIN:VCALENDAR
VERSION:2.0
PRODID:-//Clearwater Marine Aquarium - ECPv5.2.1//NONSGML v1.0//EN
CALSCALE:GREGORIAN
METHOD:PUBLISH
X-WR-CALNAME:Clearwater Marine Aquarium
X-ORIGINAL-URL:https://www.cmaquarium.org
X-WR-CALDESC:Events for Clearwater Marine Aquarium
BEGIN:VTIMEZONE
TZID:America/New_York
BEGIN:DAYLIGHT
TZOFFSETFROM:-0500
TZOFFSETTO:-0400
TZNAME:EDT
DTSTART:20240310T070000
END:DAYLIGHT
BEGIN:STANDARD
TZOFFSETFROM:-0400
TZOFFSETTO:-0500
TZNAME:EST
DTSTART:20241103T060000
END:STANDARD
END:VTIMEZONE
BEGIN:VEVENT
DTSTART;TZID=America/New_York:20240406T090000
DTEND;TZID=America/New_York:20240406T140000
DTSTAMP:20260422T165142
CREATED:20240216T150727Z
LAST-MODIFIED:20240326T190401Z
UID:61911-1712394000-1712412000@www.cmaquarium.org
SUMMARY:Sea Turtle Awareness Day Lake Cleanup
DESCRIPTION:Join CMA and help keep our local area beautiful! \n\n\n\n\n\n\n\n\n\nSIGN UP \n\n\n\n\n\n\n\n\n\nAbout the Event\n\n\n\nCome Join Clearwater Marine Aquarium’s Sea Turtle Nesting Team for a lake cleanup! Get the chance learn about sea turtle conservation and how you can help our local sea turtle population. \n\n\n\nEvent Includes:  \n\n\n\nRaffle PrizesPersonalize a Sea Turtle Nesting Stake Photo OpportunitiesAnd Much More! \n\n\n\n\n\n\n\n\nSIGN UP
URL:https://www.cmaquarium.org/event/sea-turtle-awareness-day-lake-cleanup/
LOCATION:Lake Bellevue\, 1426 S M.L.K. Jr Ave\, Clearwater\, Florida\, 33756\, United States
ATTACH;FMTTYPE=image/jpeg:https://www.cmaquarium.org/app/uploads/2024/02/Kayak-Cleanup-2021-04986.jpg
END:VEVENT
END:VCALENDAR