BEGIN:VCALENDAR
VERSION:2.0
PRODID:-//Clearwater Marine Aquarium - ECPv5.2.1//NONSGML v1.0//EN
CALSCALE:GREGORIAN
METHOD:PUBLISH
X-WR-CALNAME:Clearwater Marine Aquarium
X-ORIGINAL-URL:https://www.cmaquarium.org
X-WR-CALDESC:Events for Clearwater Marine Aquarium
BEGIN:VTIMEZONE
TZID:America/New_York
BEGIN:DAYLIGHT
TZOFFSETFROM:-0500
TZOFFSETTO:-0400
TZNAME:EDT
DTSTART:20190310T070000
END:DAYLIGHT
BEGIN:STANDARD
TZOFFSETFROM:-0400
TZOFFSETTO:-0500
TZNAME:EST
DTSTART:20191103T060000
END:STANDARD
END:VTIMEZONE
BEGIN:VEVENT
DTSTART;TZID=America/New_York:20190406T080000
DTEND;TZID=America/New_York:20190406T130000
DTSTAMP:20260422T133936
CREATED:20190125T162844Z
LAST-MODIFIED:20190419T202620Z
UID:27372-1554537600-1554555600@www.cmaquarium.org
SUMMARY:Sea Turtle Awareness Day 2019
DESCRIPTION:Experience Details\n\n\n\n\n\n\n\n\n\n\nAbout the Event\n\n\nThanks to everyone that participated in Sea Turtle Awareness Day! Over 1\,040 pounds of trash were collected.  \n \nView more photos from Sea Turtle Awareness Day 2019 \n\nJoin our Sea Turtle Conservation Team for a special day focused on sea turtle nesting and conservation at Pier 60 in Clearwater Beach! Learn what you can do to help protect these endangered marine animals and participate in coastal cleanup activities on the beach and in the water. \nActivities and Fun for the Family: \n\nBeach Cleanup at Pier 60.\nEducational games for kids.\nChildren’s Latin dance group.\nSea turtle nesting stake painting.\nNest site and other educational displays.\nLive music\, local vendors and food!\n\n\n			\n				\n			\n			\n				\n			\n			\n				\n			\n			\n		\n\n\nBeach Cleanup\nFree t-shirt and goodie bag for all cleanup participants! (While supplies last.) \n\nWe have received enormous interest and support for the cleanup event and are grateful for everyone that signed up to volunteer. Thank you all for supporting coastal conservation! \nThere will be lots of activities\, food\, music\, vendors\, and sea turtle themed fun for anyone who wishes to attend Sea Turtle Awareness Day at Clearwater Beach\, but did not register for the beach clean-up. \nWe hope everyone enjoys Sea Turtle Awareness Day! \n\nTips & Reminders: \n\nPlease meet at Pier 60 at 8 a.m. to sign in.\nLimited parking is available at Pier 60 for an hourly fee. View Parking Map.\nPlease bring your own utility or garden gloves if you have them to reduce plastic waste.\nAdditional gloves\, burlap bags\, and buckets will be available to collect items.\nParticipants will bring items back to Pier 60 to receive a goodie bag.\n\nIn an effort to be more environmentally friendly\, we will be using buckets instead of plastic trash bags. \nPlease note: Participants will be required to sign a waiver at check-in. Parents/legal guardians will need to sign a waiver for any participant under 18 years of age. \nPlease bring the following items with you: \n\nHat.\nSunscreen.\nReusable water bottle.\nComfortable walking shoes.\n\nWe will also be accepting any donation items from our Sea Turtle Nesting Wish List. \nSpecial thanks to Duke Energy\, for supporting our sea turtle and beach conservation efforts.
URL:https://www.cmaquarium.org/event/sea-turtle-awareness-day-2019/
LOCATION:Pier 60\, Clearwater Beach\, 1 Causeway Blvd\, Clearwater Beach\, Florida\, 33767\, United States
CATEGORIES:Education,Community
ATTACH;FMTTYPE=image/jpeg:https://www.cmaquarium.org/app/uploads/2018/02/STAD-375x375.jpg
END:VEVENT
END:VCALENDAR