BEGIN:VCALENDAR
VERSION:2.0
PRODID:-//Clearwater Marine Aquarium - ECPv5.2.1//NONSGML v1.0//EN
CALSCALE:GREGORIAN
METHOD:PUBLISH
X-WR-CALNAME:Clearwater Marine Aquarium
X-ORIGINAL-URL:https://www.cmaquarium.org
X-WR-CALDESC:Events for Clearwater Marine Aquarium
BEGIN:VTIMEZONE
TZID:UTC
BEGIN:STANDARD
TZOFFSETFROM:+0000
TZOFFSETTO:+0000
TZNAME:UTC
DTSTART:20220101T000000
END:STANDARD
END:VTIMEZONE
BEGIN:VEVENT
DTSTART;TZID=UTC:20220325T183000
DTEND;TZID=UTC:20220325T203000
DTSTAMP:20260419T125039
CREATED:20220310T140300Z
LAST-MODIFIED:20220315T181159Z
UID:50335-1648233000-1648240200@www.cmaquarium.org
SUMMARY:Paint for a Cause
DESCRIPTION:Embark on a marine life journey with your own canvas. Get creative and be amazed at the work of art you can create with incredible dolphin views! \n\n\n\n\n\n\n\n\n\nBUY TICKETS\n\n\n\n\n \n\n\n\n\n\n\n\n\nAbout the Event\n\n\n\nJoin Clearwater Marine Aquarium for a creative DIY event on March 25th! \n\n\n\nExpand your creativity by discovering a new skill\, perfecting your talent\, or trying something new and fun! We are hosting a local artist who will guide you step-by-step as you paint your way through a marine life journey. This month artists will be painting a wine bottle with a sunflower design that is yours to cherish! Take home your very own work of art\, while supporting our mission. \n\n\n\nThis event is held in a covered\, outdoor space in the Stone Dolphin Complex\, in front of a beautiful underwater window. \n\n\n\nPaint for a Cause is a 14+ event and all experience levels are welcome. \n\n\n\nBeer\, wine\, and champagne will be available for purchase.  \n\n\n\nOutside food and drinks are prohibited. \n\n\n\nTickets do not include or require admission to the aquarium. \n\n\n\nPaint for a Cause (14+) \n\n\n\n6:30 p.m. to 8:30 p.m. \n\n\n\nPrice: $50.00 Non-Member / $45.00 Member \n\n\n\n\nBUY TICKETS\n\n\n\n\nCMA has implemented significant additional safety precautions to protect staff\, animals\, and guests while ensuring a fun and educational visit with limited guests. \n\n\n\nPrices\, dates\, times and other details subject to change. \n\n\n\nThis month artists will be painting a wine bottle with a sunflower design.\n\n\n\nHosted by a local artist from Pinot’s Palette.
URL:https://www.cmaquarium.org/event/paint-for-a-cause-8/
LOCATION:Clearwater Marine Aquarium\, 249 Windward Passage\, Clearwater\, FL\, 33767\, United States
CATEGORIES:Art,Special Events
ATTACH;FMTTYPE=image/jpeg:https://www.cmaquarium.org/app/uploads/2022/01/Paint-For-a-Cause.jpg
END:VEVENT
END:VCALENDAR