BEGIN:VCALENDAR
VERSION:2.0
PRODID:-//Clearwater Marine Aquarium - ECPv5.2.1//NONSGML v1.0//EN
CALSCALE:GREGORIAN
METHOD:PUBLISH
X-WR-CALNAME:Clearwater Marine Aquarium
X-ORIGINAL-URL:https://www.cmaquarium.org
X-WR-CALDESC:Events for Clearwater Marine Aquarium
BEGIN:VTIMEZONE
TZID:America/New_York
BEGIN:DAYLIGHT
TZOFFSETFROM:-0500
TZOFFSETTO:-0400
TZNAME:EDT
DTSTART:20170312T070000
END:DAYLIGHT
BEGIN:STANDARD
TZOFFSETFROM:-0400
TZOFFSETTO:-0500
TZNAME:EST
DTSTART:20171105T060000
END:STANDARD
END:VTIMEZONE
BEGIN:VEVENT
DTSTART;TZID=America/New_York:20170403T100000
DTEND;TZID=America/New_York:20170403T103000
DTSTAMP:20260422T193252
CREATED:20170330T194700Z
LAST-MODIFIED:20180927T151457Z
UID:6623-1491213600-1491215400@www.cmaquarium.org
SUMMARY:Nick's Pick - NCAA Basketball Championship
DESCRIPTION:Experience Details\n\n\n\n\n\n\n\n\nAbout the Event\n\n\n \nTune in on April 3rd at 10 a.m. EST to watch Nicholas the rescued dolphin make his prediction on who will win the NCAA Men’s Basketball Championship. \nWe know his football predictions have been accurate\, so let’s see how he is with basketball predictions! \nVisit the Facebook event here and click “interested” in order to get a notification to watch it live on Winter’s Facebook page.
URL:https://www.cmaquarium.org/event/nicks-pick-ncaa-basketball-championship/
LOCATION:Clearwater Marine Aquarium\, 249 Windward Passage\, Clearwater\, FL\, 33767\, United States
CATEGORIES:Special Promotions
END:VEVENT
END:VCALENDAR