BEGIN:VCALENDAR
VERSION:2.0
PRODID:-//Clearwater Marine Aquarium - ECPv5.2.1//NONSGML v1.0//EN
CALSCALE:GREGORIAN
METHOD:PUBLISH
X-WR-CALNAME:Clearwater Marine Aquarium
X-ORIGINAL-URL:https://www.cmaquarium.org
X-WR-CALDESC:Events for Clearwater Marine Aquarium
BEGIN:VTIMEZONE
TZID:America/New_York
BEGIN:DAYLIGHT
TZOFFSETFROM:-0500
TZOFFSETTO:-0400
TZNAME:EDT
DTSTART:20230312T070000
END:DAYLIGHT
BEGIN:STANDARD
TZOFFSETFROM:-0400
TZOFFSETTO:-0500
TZNAME:EST
DTSTART:20231105T060000
END:STANDARD
END:VTIMEZONE
BEGIN:VEVENT
DTSTART;TZID=America/New_York:20230624T113000
DTEND;TZID=America/New_York:20230624T143000
DTSTAMP:20260422T165144
CREATED:20230616T215704Z
LAST-MODIFIED:20230616T215706Z
UID:55523-1687606200-1687617000@www.cmaquarium.org
SUMMARY:Nicholas the Dolphin's 21st Birthday Celebration
DESCRIPTION:Join us in celebrating Nick’s 21st birthday at Clearwater Marine Aquarium on June 24! \n\n\n\n\n\n\n\n\n\n\n\n\n\nAbout Nick’s Birthday\n\n\n\nVisit Nicholas the dolphin at Clearwater Marine Aquarium and help us celebrate his 21st birthday on June 24 with special birthday dolphin presentations and activities. We also have some special guests joining us for the party! Take a photo and meet fun local sports team mascots between 12pm and 2pm.  \n\n\n\nThere will be two birthday dolphin presentations at the Window of Wonder at 12pm and 2pm. Don’t miss your chance to wish Nicholas a happy birthday and celebrate this big day with us! \n\n\n\n\n\n\n\nNicholas was only six months old when he stranded on December 24\, 2002. He got his name after being rescued on Christmas Eve. Nicholas suffered severe sunburns when he stranded in Gibsonton\, Florida but he received long-term medical treatment at Clearwater Marine Aquarium and eventually fully recovered. Because his mother did not survive the stranding and he was orphaned at such a young age\, he did not have the skills to survive in the wild and was deemed non-releasable and he became a permanent resident at CMA. Twenty years later and he has become one of the most engaging and inspiring animals guests meet when they visit today.  \n\n\n\n\n\n\n\n\nBuy or renew your membership onsite June 17-24 and receive a Nicholas Plush for a limited time!\n\n\n\nOne plush per household. Valid onsite only for Pair memberships and above. Excludes individual membership. Plush available while supplies last. Offer details subject to change. \n\n\n\n\nLEARN MORE ABOUT MEMBERSHIPS
URL:https://www.cmaquarium.org/event/nicholas-the-dolphins-21st-birthday-celebration/
LOCATION:Clearwater Marine Aquarium\, 249 Windward Passage\, Clearwater\, FL\, 33767\, United States
ATTACH;FMTTYPE=image/jpeg:https://www.cmaquarium.org/app/uploads/2022/03/nicholas-underwater-dolphin-244A0051.jpg
END:VEVENT
END:VCALENDAR