BEGIN:VCALENDAR
VERSION:2.0
PRODID:-//Clearwater Marine Aquarium - ECPv5.2.1//NONSGML v1.0//EN
CALSCALE:GREGORIAN
METHOD:PUBLISH
X-WR-CALNAME:Clearwater Marine Aquarium
X-ORIGINAL-URL:https://www.cmaquarium.org
X-WR-CALDESC:Events for Clearwater Marine Aquarium
BEGIN:VTIMEZONE
TZID:America/New_York
BEGIN:DAYLIGHT
TZOFFSETFROM:-0500
TZOFFSETTO:-0400
TZNAME:EDT
DTSTART:20210314T070000
END:DAYLIGHT
BEGIN:STANDARD
TZOFFSETFROM:-0400
TZOFFSETTO:-0500
TZNAME:EST
DTSTART:20211107T060000
END:STANDARD
END:VTIMEZONE
BEGIN:VEVENT
DTSTART;TZID=America/New_York:20210317T110000
DTEND;TZID=America/New_York:20210319T160000
DTSTAMP:20260423T122625
CREATED:20210310T041713Z
LAST-MODIFIED:20210318T162746Z
UID:47226-1615978800-1616169600@www.cmaquarium.org
SUMMARY:Meet the Whale Researchers
DESCRIPTION:Learn from our North Atlantic Right Whale Aerial Survey Team during this special opportunity \n\n\n\n    \n                                                                                                                                                        \n\n\n\n\n\n\n\n\n\nBOOK NOW\n\n\n\n\nIncluded with your admission to CMA! \n\n\n\n\nResearch scientists from left to right: Marcy Lee\, Ashley Millan Ambert\, David Lockwood\, and Melanie White\n\n\n\nAbout the Event\n\n\n\nDon’t miss this limited-time opportunity to meet and learn from the CMA Research Institute North Atlantic right whale aerial observers. This expert group of researchers and biologists fly along the southeastern coast of the U.S. to monitor the migration paths of the endangered North Atlantic right whales during their calving season. Hear what it’s like to spot a right whale from 1000 feet in the air\, how scientists identify different whales and how they train for this unique career in marine science.  \n\n\n\n\n\n\n\nScheduled Appearances\n\n\n\nMeet the whale researchers for a special presentation on North Atlantic right whales. \n\n\n\nMarch 17 \n\n\n\n11 a.m. to 1 p.m. – Window of Wonder\, Stone Dolphin Complex2 p.m. to 4 p.m. – Window of Wonder\, Stone Dolphin Complex\n\n\n\nMarch 18 \n\n\n\n11 a.m. to 1 p.m. – Window of Wonder\, Stone Dolphin Complex2 p.m. to 4 p.m. – Window of Wonder\, Stone Dolphin Complex\n\n\n\nMarch 19 \n\n\n\n11 a.m. to 1 p.m. – Window of Wonder\, Stone Dolphin Complex2 p.m. to 4 p.m. – Window of Wonder\, Stone Dolphin Complex\n\n\n\n\n\n\n\n\n\nResearch conducted and photographs collected under NOAA research permits #15488 and #20556-01.
URL:https://www.cmaquarium.org/event/meet-the-whale-researchers/
LOCATION:Clearwater Marine Aquarium\, 249 Windward Passage\, Clearwater\, FL\, 33767\, United States
ATTACH;FMTTYPE=image/jpeg:https://www.cmaquarium.org/app/uploads/2021/03/GA-Team-2021-2048x1536-1.jpg
END:VEVENT
END:VCALENDAR