BEGIN:VCALENDAR
VERSION:2.0
PRODID:-//Clearwater Marine Aquarium - ECPv5.2.1//NONSGML v1.0//EN
CALSCALE:GREGORIAN
METHOD:PUBLISH
X-WR-CALNAME:Clearwater Marine Aquarium
X-ORIGINAL-URL:https://www.cmaquarium.org
X-WR-CALDESC:Events for Clearwater Marine Aquarium
BEGIN:VTIMEZONE
TZID:America/New_York
BEGIN:DAYLIGHT
TZOFFSETFROM:-0500
TZOFFSETTO:-0400
TZNAME:EDT
DTSTART:20180311T070000
END:DAYLIGHT
BEGIN:STANDARD
TZOFFSETFROM:-0400
TZOFFSETTO:-0500
TZNAME:EST
DTSTART:20181104T060000
END:STANDARD
END:VTIMEZONE
BEGIN:VEVENT
DTSTART;TZID=America/New_York:20180721T000000
DTEND;TZID=America/New_York:20180725T235900
DTSTAMP:20260422T135818
CREATED:20180419T162440Z
LAST-MODIFIED:20191204T171111Z
UID:14645-1532131200-1532563140@www.cmaquarium.org
SUMMARY:Meet the Dolphin Tale Stars
DESCRIPTION:Experience Details\n\n\n\n\n\n\n\n\n\n\nAbout the Event\n\n\nSee Schedule Below for Appearance Times. \nMeet the actors who played Sawyer (Nathan Gamble)\, Hazel (Cozi Zuehlsdorff) and Phoebe (Austin Highsmith) in the Dolphin Tale movies\, the major motion pictures that were filmed right here at Clearwater Marine Aquarium and throughout the beautiful St. Pete/Clearwater area of Florida. \nFrom July 21-25 take a photo and get an autograph during their special appearances – included with your general admission ticket purchase. \nAppearance Schedule in CMA’s Theater* \nJuly 21: Nathan Gamble12 p.m. and 2:30 p.m. – Photos and Autographs \nJuly 22: Nathan Gamble & Austin Highsmith12 p.m. and 2:30 p.m. – Photos and Autographs \nJuly 23: Cozi Zuehlsdorff\, Nathan Gamble & Austin Highsmith11 a.m. – Q&A’s with Nathan Gamble and Austin Highsmith12:15 p.m. – Q&A’s with Nathan Gamble and Austin Highsmith2:30 p.m. – Photos and Autographs with Cozi Zuelsdorff\, Nathan Gamble and Austin Highsmith4:00 p.m. – Photos and Autographs with Cozi Zuelsdorff\, Nathan Gamble and Austin Highsmith \nJuly 24: Cozi Zuehlsdorff\, Nathan Gamble & Austin Highsmith12:30 p.m. – Photos and Autographs3 p.m. – Q&A’s \nJuly 25: Cozi Zuehlsdorff & Austin Highsmith11 a.m. – Photos and Autographs1 p.m. & 3 p.m. – Q&A’s \n*All schedules times and appearances subject to change.\nBuy Tickets
URL:https://www.cmaquarium.org/event/meet-the-dolphin-tale-stars/
LOCATION:Clearwater Marine Aquarium\, 249 Windward Passage\, Clearwater\, FL\, 33767\, United States
CATEGORIES:Actor Visit
ATTACH;FMTTYPE=image/jpeg:https://www.cmaquarium.org/app/uploads/2016/12/Meet-the-Stars-2017-375x375.jpg
END:VEVENT
END:VCALENDAR