BEGIN:VCALENDAR
VERSION:2.0
PRODID:-//Clearwater Marine Aquarium - ECPv5.2.1//NONSGML v1.0//EN
CALSCALE:GREGORIAN
METHOD:PUBLISH
X-WR-CALNAME:Clearwater Marine Aquarium
X-ORIGINAL-URL:https://www.cmaquarium.org
X-WR-CALDESC:Events for Clearwater Marine Aquarium
BEGIN:VTIMEZONE
TZID:America/New_York
BEGIN:DAYLIGHT
TZOFFSETFROM:-0500
TZOFFSETTO:-0400
TZNAME:EDT
DTSTART:20170312T070000
END:DAYLIGHT
BEGIN:STANDARD
TZOFFSETFROM:-0400
TZOFFSETTO:-0500
TZNAME:EST
DTSTART:20171105T060000
END:STANDARD
END:VTIMEZONE
BEGIN:VEVENT
DTSTART;TZID=America/New_York:20170313T000000
DTEND;TZID=America/New_York:20170316T235900
DTSTAMP:20260423T122626
CREATED:20170221T163131Z
LAST-MODIFIED:20180927T151929Z
UID:6050-1489363200-1489708740@www.cmaquarium.org
SUMMARY:Meet Dolphin Tale Star
DESCRIPTION:Experience Details\n\n\n\n\n\n\n\n\nAbout the Event\n\n\n\nMeet Nathan Gamble\, who played Sawyer in the Dolphin Tale movies March 13-16. \n\n\n\nScheduled appearances will be held in Spectrum Theater at Clearwater Marine Aquarium. \n\n\n\n\n\n\n\nMarch 15Autographs and Photos starting at 11 a.m.March 16Autographs and Photos starting at 12:30 p.m.Dates\, time and location are subject to change.  \n\n\n\nBook your tickets online today! \n\n\n\nBuy Tickets
URL:https://www.cmaquarium.org/event/meet-dolphin-tale-star/
LOCATION:Clearwater Marine Aquarium\, 249 Windward Passage\, Clearwater\, FL\, 33767\, United States
CATEGORIES:Actor Visit
END:VEVENT
END:VCALENDAR