BEGIN:VCALENDAR
VERSION:2.0
PRODID:-//Clearwater Marine Aquarium - ECPv5.2.1//NONSGML v1.0//EN
CALSCALE:GREGORIAN
METHOD:PUBLISH
X-WR-CALNAME:Clearwater Marine Aquarium
X-ORIGINAL-URL:https://www.cmaquarium.org
X-WR-CALDESC:Events for Clearwater Marine Aquarium
BEGIN:VTIMEZONE
TZID:America/New_York
BEGIN:DAYLIGHT
TZOFFSETFROM:-0500
TZOFFSETTO:-0400
TZNAME:EDT
DTSTART:20170312T070000
END:DAYLIGHT
BEGIN:STANDARD
TZOFFSETFROM:-0400
TZOFFSETTO:-0500
TZNAME:EST
DTSTART:20171105T060000
END:STANDARD
END:VTIMEZONE
BEGIN:VEVENT
DTSTART;TZID=America/New_York:20170422T090000
DTEND;TZID=America/New_York:20170423T180000
DTSTAMP:20260423T060821
CREATED:20170321T203655Z
LAST-MODIFIED:20200120T190629Z
UID:6465-1492851600-1492970400@www.cmaquarium.org
SUMMARY:Marine Science Fest - Earth Day 2017
DESCRIPTION:Experience Details\n\n\n\n\n\n\n\n\nAbout the Event\n\n\nClearwater Marine Aquarium is celebrating Earth Day with Marine Science Fest! Join us on April 22 and 23 for family-fun activities. Come explore the wonderful diversity of creatures that live in our world’s oceans – biodiversity. \nCMA’s Sea Turtle Rehab and Nesting Teams\, Rescue Team and the Eckerd Shark Conservation Center will be there to teach you all about sea turtles\, marine mammals and sharks through a variety of demonstrations! \nHands-on learning activities will include: \n\nLive exhibits of different sea creatures\nSea star and sea urchin dissection\nLooking at sea creatures under a microscope\nPlay a bird adaptation game\nDiscover how crabs see using compound eyes\nMake your own carapace activity\nAnd more!\n\nAll activities will be included with your admission to CMA on April 22-23 and will be located in our Education rooms on the third floor. Activities are recommended for ages 4 and up. \nBuy Tickets
URL:https://www.cmaquarium.org/event/marine-science-fest-earth-day/
LOCATION:Clearwater Marine Aquarium\, 249 Windward Passage\, Clearwater\, FL\, 33767\, United States
CATEGORIES:Special Promotions,Education
END:VEVENT
END:VCALENDAR