BEGIN:VCALENDAR
VERSION:2.0
PRODID:-//Clearwater Marine Aquarium - ECPv5.2.1//NONSGML v1.0//EN
CALSCALE:GREGORIAN
METHOD:PUBLISH
X-WR-CALNAME:Clearwater Marine Aquarium
X-ORIGINAL-URL:https://www.cmaquarium.org
X-WR-CALDESC:Events for Clearwater Marine Aquarium
BEGIN:VTIMEZONE
TZID:America/New_York
BEGIN:DAYLIGHT
TZOFFSETFROM:-0500
TZOFFSETTO:-0400
TZNAME:EDT
DTSTART:20190310T070000
END:DAYLIGHT
BEGIN:STANDARD
TZOFFSETFROM:-0400
TZOFFSETTO:-0500
TZNAME:EST
DTSTART:20191103T060000
END:STANDARD
END:VTIMEZONE
BEGIN:VEVENT
DTSTART;TZID=America/New_York:20190216T100000
DTEND;TZID=America/New_York:20190218T180000
DTSTAMP:20260423T023040
CREATED:20190124T165811Z
LAST-MODIFIED:20200120T190419Z
UID:27360-1550311200-1550512800@www.cmaquarium.org
SUMMARY:Marine Science Fest
DESCRIPTION:Experience Details\n\n\n\n\n\n\n\n\n\n\nAbout the Event\n\n\nJoin us for Marine Science Fest February 16-18. This Presidents’ Day weekend\, enjoy fun-filled educational activities and learn about local environmental programs from community partners including Eckerd Marine Science Club\, Shark Conservation Club\, USF Marine Lab\, Tampa Bay Watch and Keep Pinellas Beautiful. \nActivities will include: \n\nSea turtle lighting and hatchling activities\nRight whale migration game\nDolphin dorsal fin matching game\nExplore the anatomy of sharks\nScientific demonstrations and experiments\nAnd more!\n\nFeb. 16\nEckerd Marine Science Club\nShark Conservation Club \nFeb. 17\nShark Conservation Club\nDr. David Murphy’s USF Marine Lab \nFeb. 18\nTampa Bay Watch\nKeep Pinellas Beautiful
URL:https://www.cmaquarium.org/event/marine-science-fest-2019/
LOCATION:Clearwater Marine Aquarium\, 249 Windward Passage\, Clearwater\, FL\, 33767\, United States
CATEGORIES:Education,Special Events
ATTACH;FMTTYPE=image/jpeg:https://www.cmaquarium.org/app/uploads/2019/01/MSF-375x375-1.jpg
END:VEVENT
END:VCALENDAR