BEGIN:VCALENDAR
VERSION:2.0
PRODID:-//Clearwater Marine Aquarium - ECPv5.2.1//NONSGML v1.0//EN
CALSCALE:GREGORIAN
METHOD:PUBLISH
X-WR-CALNAME:Clearwater Marine Aquarium
X-ORIGINAL-URL:https://www.cmaquarium.org
X-WR-CALDESC:Events for Clearwater Marine Aquarium
BEGIN:VTIMEZONE
TZID:America/New_York
BEGIN:DAYLIGHT
TZOFFSETFROM:-0500
TZOFFSETTO:-0400
TZNAME:EDT
DTSTART:20230312T070000
END:DAYLIGHT
BEGIN:STANDARD
TZOFFSETFROM:-0400
TZOFFSETTO:-0500
TZNAME:EST
DTSTART:20231105T060000
END:STANDARD
END:VTIMEZONE
BEGIN:VEVENT
DTSTART;TZID=America/New_York:20231229T093000
DTEND;TZID=America/New_York:20231229T123000
DTSTAMP:20260419T173758
CREATED:20231208T175803Z
LAST-MODIFIED:20231208T175806Z
UID:60298-1703842200-1703853000@www.cmaquarium.org
SUMMARY:Marine Science Family Mini-Camps
DESCRIPTION:Embark on an exciting school break adventure with Clearwater Marine Aquarium at our Marine Science Family Mini-Camps! \n\n\n\n\n\n\n\n\n\nBOOK NOW\n\n\n\n\n\n\n\n\n\nChilly Current Chasers\n\n\n\nGear up for an icy adventure and join us on a thrilling journey to the frosty finish line! Discover the secrets of ocean currents by engaging in hands-on experiments. Explore the wonders of CMA during an exciting scavenger hunt throughout the aquarium\, where you’ll collect stamps in your expedition book. Learn how animals navigate the chilly currents\, with a special focus on the cold-water cousins of bottlenose dolphins. Your teamwork will shine in the final trivia game\, adding a splash of excitement to our family-friendly competition! \n\n\n\nThrilling Topics: Each day brings a new and exciting marine science topic to explore. Choose a single session or dive into the complete adventure by participating in all three sessions per break!Hands-on Activities: Dive into hands-on experiments and delightful activities that make learning fun and easy. On select days in the spring\, dive into the excitement of snorkeling to explore marine wonders up close!Family Fun: Parents and guardians\, get ready to be amazed alongside your young ocean enthusiasts! Adults must be accompanied by a participant 18 and under. Participants under 18 must be with an adult.Admission Included: Enjoy admission for each participant at the end of every program.\n\n\n\nMini-Camp Dates: \n\n\n\nPolar Paradise Explorers – December 27Seaside Snowflake Scientists – December 28Chilly Current Chasers – December 29\n\n\n\nPlease Note:  \n\n\n\nPRICE: $40 per person per session; $110 per person for all three sessions. Please call to book and receive discount for multiple camps and include the number.\n\n\n\n\nLEARN MORE\n\n\n\n\nFor more information\, please contact: csmith@cmaquarium.org or call 727-441-1790 x 2262.
URL:https://www.cmaquarium.org/event/marine-science-family-mini-camps-3/
LOCATION:Clearwater Marine Aquarium\, 249 Windward Passage\, Clearwater\, FL\, 33767\, United States
ATTACH;FMTTYPE=image/jpeg:https://www.cmaquarium.org/app/uploads/2023/12/mini-camps.jpg
END:VEVENT
END:VCALENDAR