BEGIN:VCALENDAR
VERSION:2.0
PRODID:-//Clearwater Marine Aquarium - ECPv5.2.1//NONSGML v1.0//EN
CALSCALE:GREGORIAN
METHOD:PUBLISH
X-WR-CALNAME:Clearwater Marine Aquarium
X-ORIGINAL-URL:https://www.cmaquarium.org
X-WR-CALDESC:Events for Clearwater Marine Aquarium
BEGIN:VTIMEZONE
TZID:America/New_York
BEGIN:DAYLIGHT
TZOFFSETFROM:-0500
TZOFFSETTO:-0400
TZNAME:EDT
DTSTART:20220313T070000
END:DAYLIGHT
BEGIN:STANDARD
TZOFFSETFROM:-0400
TZOFFSETTO:-0500
TZNAME:EST
DTSTART:20221106T060000
END:STANDARD
END:VTIMEZONE
BEGIN:VEVENT
DTSTART;TZID=America/New_York:20221022T100000
DTEND;TZID=America/New_York:20221022T120000
DTSTAMP:20260422T215459
CREATED:20220913T201634Z
LAST-MODIFIED:20220914T171346Z
UID:52612-1666432800-1666440000@www.cmaquarium.org
SUMMARY:Junior Career Quest
DESCRIPTION:GET TICKETS\n\n\n\n\n\nCareer Exploration Program\n\n\n\nAre you a budding marine scientist? This experience provides an inside look at aquarium careers for students that are 3rd through 6th grade. Participate in hands-on activities that showcase the rescue\, rehabilitation\, and release work that CMA does. Learn about different paths that you can take to achieve your marine science career goals. \n\n\n\nPlease call: 727-441-1790 ext. 2262 for questions and more information. \n\n\n\n\nGET TICKETS
URL:https://www.cmaquarium.org/event/junior-career-quest/
LOCATION:Clearwater Marine Aquarium\, 249 Windward Passage\, Clearwater\, FL\, 33767\, United States
ATTACH;FMTTYPE=image/jpeg:https://www.cmaquarium.org/app/uploads/2022/09/CMA34934-scaled.jpg
END:VEVENT
END:VCALENDAR