BEGIN:VCALENDAR
VERSION:2.0
PRODID:-//Clearwater Marine Aquarium - ECPv5.2.1//NONSGML v1.0//EN
CALSCALE:GREGORIAN
METHOD:PUBLISH
X-WR-CALNAME:Clearwater Marine Aquarium
X-ORIGINAL-URL:https://www.cmaquarium.org
X-WR-CALDESC:Events for Clearwater Marine Aquarium
BEGIN:VTIMEZONE
TZID:UTC
BEGIN:STANDARD
TZOFFSETFROM:+0000
TZOFFSETTO:+0000
TZNAME:UTC
DTSTART:20210101T000000
END:STANDARD
END:VTIMEZONE
BEGIN:VEVENT
DTSTART;TZID=UTC:20210914T100000
DTEND;TZID=UTC:20210914T113000
DTSTAMP:20260422T133933
CREATED:20210830T165451Z
LAST-MODIFIED:20220902T200029Z
UID:48331-1631613600-1631619000@www.cmaquarium.org
SUMMARY:Hope's Homeschool: Marvelous Manatees
DESCRIPTION:Join us this Fall for Hope’s Homeschool programs! \n\n\n\n\n\n\n\n\n\nREGISTER\n\n\n\n\n\n\n\n\n\nAbout the Event\n\n\n\n Enjoy fun\, and educational programs filled with marine science-based activities! \n\n\n\nCMA is building and designing a new Manatee Rehabilitation Center! Investigate manatee anatomy\, biology\, and conservation. Learn how CMA assists with manatee rescues\, rehabilitation\, and ways you can help to protect wild manatees. \n\n\n\nAvailable for ages 5 and up. Tickets do not include admission to the aquarium. \n\n\n\nHope’s Homeschool: Marvelous Manatees \n\n\n\n10:00 a.m. to 11:30 a.m. \n\n\n\nPrice: $25 (one child & chaperone); $10 per additional child \n\n\n\n\nREGISTER\n\n\n\n\nCMA has implemented significant additional safety precautions to protect staff\, animals\, and guests while ensuring a fun and educational visit with limited guests. \n\n\n\nPrices\, dates\, times and other details subject to change.
URL:https://www.cmaquarium.org/event/hopes-homeschool-marvelous-manatees/
LOCATION:Clearwater Marine Aquarium\, 249 Windward Passage\, Clearwater\, FL\, 33767\, United States
ATTACH;FMTTYPE=image/jpeg:https://www.cmaquarium.org/app/uploads/2021/08/D3BECECB-17CB-4922-9846-F0B3A3EE41CE_1_201_a-scaled.jpeg
END:VEVENT
END:VCALENDAR