BEGIN:VCALENDAR
VERSION:2.0
PRODID:-//Clearwater Marine Aquarium - ECPv5.2.1//NONSGML v1.0//EN
CALSCALE:GREGORIAN
METHOD:PUBLISH
X-WR-CALNAME:Clearwater Marine Aquarium
X-ORIGINAL-URL:https://www.cmaquarium.org
X-WR-CALDESC:Events for Clearwater Marine Aquarium
BEGIN:VTIMEZONE
TZID:America/New_York
BEGIN:DAYLIGHT
TZOFFSETFROM:-0500
TZOFFSETTO:-0400
TZNAME:EDT
DTSTART:20240310T070000
END:DAYLIGHT
BEGIN:STANDARD
TZOFFSETFROM:-0400
TZOFFSETTO:-0500
TZNAME:EST
DTSTART:20241103T060000
END:STANDARD
END:VTIMEZONE
BEGIN:VEVENT
DTSTART;TZID=America/New_York:20241023T100000
DTEND;TZID=America/New_York:20241023T140000
DTSTAMP:20260423T130649
CREATED:20240926T213834Z
LAST-MODIFIED:20240926T213925Z
UID:66983-1729677600-1729692000@www.cmaquarium.org
SUMMARY:Homeschool Aquatic Adventures at Clearwater Marine Aquarium
DESCRIPTION:Are you looking for an enriching and fun experience for your homeschooling family? Clearwater Marine Aquarium invites you to Homeschool Aquatic Adventures with a special package designed just for you on select dates! \n\n\n\n\n\n\n\nAbout the Homeschool Programs\n\n\n\nDelve into the world of Marine Science through our classroom-based Marine Biology 101 program\, our thrilling Sea Life Safari eco-boat tour\, or both! \n\n\n\nSea Life Safari \n\n\n\nJoin us for a 90-minute scenic eco-boat cruise around our local estuary. Be a part of citizen science\, and observe data collection in action\, as we perform a net pull and conduct a “show and tell” onboard of sea creatures found in the grass beds and sand flats of the bay. Get your feet wet at a local shell island and collect seashells.  \n\n\n\nMarine Biology 101 Classroom Program \n\n\n\nWould you like to participate in an engaging classroom program? Join us during our one-hour Marine Biology 101 Biologist-Led Classroom program. Discuss animal adaptations and strategies necessary for survival in different habitats. Examine the life cycles\, environment\, and feeding methodologies of various marine animals using touch to explore biofacts and live touch tank invertebrates.  \n\n\n\nDon’t miss this chance to blend learning and fun in one exciting day! We look forward to welcoming your family to Clearwater Marine Aquarium\, where education and adventure go hand in hand.   \n\n\n\nProgram Combo Options:  \n\n\n\n\nHomeschool Option 1 – Sea Life Safari Charter + Admission \n\n\n\n$35 per person \n\n\n\n\nBOOK NOW\n\n\n\n\n\n\n\n\n\n\nHomeschool Option 2 – Classroom Program + Admission  \n\n\n\n$15 per person: \n\n\n\n\nBOOK NOW\n\n\n\n\n\n\n\n\n\n\nHomeschool Option 3 – Sea Life Safari Charter + Classroom Program + Admission   \n\n\n\n$40 per person: \n\n\n\n\nBOOK NOW\n\n\n\n\n\n\n\n\n\nPlease Note:  \n\n\n\nYou may check in anytime between 10:00 am and 12:00 pm. Since programs begin promptly at their scheduled times\, we recommend arriving at least 15 minutes before your program starts. Please enter through the 3rd floor main entrance. After proceeding through security\, check in with a ticketing member. A Marine Academy Biologist will meet you on the 1st floor by the “Programs Meeting Spot” sign at least 15 minutes before the program starts to escort you to your boat or classroom.Parking is not included in your ticket price. Seasonal rate applies for parking in the CMA garage. Please check your printed tickets for your specific program selections and times. Programs will begin promptly at the scheduled times. Unfortunately\, we can’t accommodate late arrivals. Each attending child must be accompanied by at least one adult throughout the entire program and while on Clearwater Marine Aquarium property. One adult can supervise multiple children\, including siblings\, or friends.Guest Services\, Shark Bites Cafe\, the Gift Shop\, and the main exit can all be found on the 3rd level of the Visitor’s Center.Self-guided general admission is included. Registration and payment are required to participate on boat routes as space is limited.Registration and payment is required to participate in the classroom program as space is limited.The Sea Life Safari boat tour will depart at the time listed on your ticket. Please arrive at the “Programs Meeting Spot” on the first floor at least 15 minutes prior to avoid missing the tour. The boat tour will run rain or shine. However\, if severe weather arises\, such as heavy rain\, fog that limits the Captain’s visibility\, or lightning in the area\, the trip may be cancelled or return early. The island stop may be canceled due to weather or inaccessibility\, and boat routes may be altered by captain at any time.\n\n\n\n\n\n\n\n\n\n\n\n\n\nGET TICKETS
URL:https://www.cmaquarium.org/event/homeschool-aquatic-adventures-at-clearwater-marine-aquarium/
LOCATION:Clearwater Marine Aquarium\, 249 Windward Passage\, Clearwater\, FL\, 33767\, United States
ATTACH;FMTTYPE=image/jpeg:https://www.cmaquarium.org/app/uploads/2024/09/OPS20156-scaled.jpg
END:VEVENT
END:VCALENDAR