BEGIN:VCALENDAR
VERSION:2.0
PRODID:-//Clearwater Marine Aquarium - ECPv5.2.1//NONSGML v1.0//EN
CALSCALE:GREGORIAN
METHOD:PUBLISH
X-WR-CALNAME:Clearwater Marine Aquarium
X-ORIGINAL-URL:https://www.cmaquarium.org
X-WR-CALDESC:Events for Clearwater Marine Aquarium
BEGIN:VTIMEZONE
TZID:UTC
BEGIN:STANDARD
TZOFFSETFROM:+0000
TZOFFSETTO:+0000
TZNAME:UTC
DTSTART:20220101T000000
END:STANDARD
END:VTIMEZONE
BEGIN:VEVENT
DTSTART;TZID=UTC:20221119T090000
DTEND;TZID=UTC:20221119T093000
DTSTAMP:20260422T031346
CREATED:20221118T142124Z
LAST-MODIFIED:20221118T174945Z
UID:53224-1668848400-1668850200@www.cmaquarium.org
SUMMARY:Holiday Family Photo Mini Sessions
DESCRIPTION:Enjoy a private photo session with your family at Clearwater Marine Aquarium\, featuring a resident dolphin! \n\n\n\n\n\n\n\n\n\nBOOK PHOTO\n\n\n\n\n \n\n\n\n\n\n\n\n\nAbout the Event\n\n\n\nBring your family for a unique photo opportunity you will cherish forever! Introducing a limited-time photo opportunity just for your family. This professional photo session will offer your family an exclusive experience together at Clearwater Marine Aquarium with a backdrop perfect for your holiday cards\, including a photo opportunity with one of our rescued resident bottlenose dolphins! Space is limited\, so don’t miss this special opportunity! Each package includes a digital gallery with expertly edited images.  \n\n\n\n\nBOOK PHOTO\n\n\n\n\nPhoto session times and locations may vary. Animal interactions are not guaranteed. Price\, dates and other details subject to change. 
URL:https://www.cmaquarium.org/event/holiday-family-photo-mini-sessions/2022-11-19/
LOCATION:Clearwater Marine Aquarium\, 249 Windward Passage\, Clearwater\, FL\, 33767\, United States
ATTACH;FMTTYPE=image/jpeg:https://www.cmaquarium.org/app/uploads/2021/11/Mini-Session-Sample-43.jpg
END:VEVENT
END:VCALENDAR