BEGIN:VCALENDAR
VERSION:2.0
PRODID:-//Clearwater Marine Aquarium - ECPv5.2.1//NONSGML v1.0//EN
CALSCALE:GREGORIAN
METHOD:PUBLISH
X-WR-CALNAME:Clearwater Marine Aquarium
X-ORIGINAL-URL:https://www.cmaquarium.org
X-WR-CALDESC:Events for Clearwater Marine Aquarium
BEGIN:VTIMEZONE
TZID:America/New_York
BEGIN:DAYLIGHT
TZOFFSETFROM:-0500
TZOFFSETTO:-0400
TZNAME:EDT
DTSTART:20230312T070000
END:DAYLIGHT
BEGIN:STANDARD
TZOFFSETFROM:-0400
TZOFFSETTO:-0500
TZNAME:EST
DTSTART:20231105T060000
END:STANDARD
END:VTIMEZONE
BEGIN:VEVENT
DTSTART;TZID=America/New_York:20231028T090000
DTEND;TZID=America/New_York:20231028T150000
DTSTAMP:20260422T054703
CREATED:20230822T195000Z
LAST-MODIFIED:20230822T195001Z
UID:57843-1698483600-1698505200@www.cmaquarium.org
SUMMARY:High School Career Exploration
DESCRIPTION:Join us for our High School Career Exploration program! This experience provides an inside look at aquarium careers. \n\n\n\n\n\n\n\n\n\nGET TICKETS\n\n\n\n\n\n\n\n\n\nHigh School Career Exploration Program\n\n\n\nMeet aquarium personnel\, participate in activities\, and explore behind the scenes. Learn about Clearwater Marine Aquarium’s research and conservation programs\, education\, and animal husbandry. This is a drop-off program. Parents or guardians are not participants. \n\n\n\nMonthly Programs:  \n\n\n\nOctober 28\, 2023December 23\, 2023February 17\, 2024April 27\, 2024May 25\, 2023\n\n\n\nParticipant Qualifications: \n\n\n\nOnly available to current high school students in 9th through 12th grade.Passion to learn from industry experts in a career-focused programComplete online registration at cmaquarium.org\n\n\n\nPlease Note: \n\n\n\nParticipating students must have a waiver signed by a parent or guardian (unless 18 years of age) that must be collected prior to entry.Participants will check in and enter the R.O. Jacobson Education Center on the 2nd floor of the Visitor Center (building attached to the garage)\, not the main entrance.Admission is not included in the program’s cost but can be purchased separately.If a student chooses to pack a lunch or snack\, please ensure no nuts or nut products come onto the floor if there is an allergy.If you have any questions regarding the program\, please contact our Education Team at 727-441-1790 ext. 2262 or educoordinator@cmaquarium.org.Once purchased\, you will receive a confirmation and more details about the day.Pricing: $50 per student\n\n\n\n\nGET TICKETS
URL:https://www.cmaquarium.org/event/high-school-career-exploration/2023-10-28/
LOCATION:Clearwater Marine Aquarium\, 249 Windward Passage\, Clearwater\, FL\, 33767\, United States
CATEGORIES:Education
ATTACH;FMTTYPE=image/jpeg:https://www.cmaquarium.org/app/uploads/2023/08/Careers-0009-scaled.jpg
END:VEVENT
END:VCALENDAR