BEGIN:VCALENDAR
VERSION:2.0
PRODID:-//Clearwater Marine Aquarium - ECPv5.2.1//NONSGML v1.0//EN
CALSCALE:GREGORIAN
METHOD:PUBLISH
X-WR-CALNAME:Clearwater Marine Aquarium
X-ORIGINAL-URL:https://www.cmaquarium.org
X-WR-CALDESC:Events for Clearwater Marine Aquarium
BEGIN:VTIMEZONE
TZID:UTC
BEGIN:STANDARD
TZOFFSETFROM:+0000
TZOFFSETTO:+0000
TZNAME:UTC
DTSTART:20210101T000000
END:STANDARD
END:VTIMEZONE
BEGIN:VEVENT
DTSTART;TZID=UTC:20210306T100000
DTEND;TZID=UTC:20210307T170000
DTSTAMP:20260422T135726
CREATED:20210213T042217Z
LAST-MODIFIED:20210306T030929Z
UID:46885-1615024800-1615136400@www.cmaquarium.org
SUMMARY:Go Wild Weekend - Prairie Wildlife
DESCRIPTION:Learn about a variety of rescued species each weekend!  \n\n\n\n\n\n\n\n\n\nBUY TICKETS\n\n\n\n\n\n\n\n\n\nAbout the Event\n\n\n\nGo Wild at CMA with a special animal experience every weekend through Mar. 14. Learn all about a variety of wild species with rescued animals from partner organizations and educational activities on biodiversity. This special experience will be different each weekend and will feature rescued animals throughout Clearwater Marine Aquarium and educational activities in the R.O. Jacobson Education Center on the 2nd level. \n\n\n\nEducational Activity Schedule\n\n\n\n    \n                    \n                \n                    11:00\n                    am\n                \n\n                \n                    Aquatic Biodiversity\n\n                                            \n                            \n                                \n                                \n                            \n\n                            R.O. Jacobson Education Center – 2nd Level                        \n                                    \n            \n                    \n                \n                    1:00\n                    pm\n                \n\n                \n                    Build a Bug Hotel\n\n                                            \n                            \n                                \n                                \n                            \n\n                            R.O. Jacobson Education Center – 2nd Level                        \n                                    \n            \n                    \n                \n                    3:00\n                    pm\n                \n\n                \n                    Diversity and the Florida Panther\n\n                                            \n                            \n                                \n                                \n                            \n\n                            R.O. Jacobson Education Center – 2nd Level                        \n                                    \n            \n            \n\n\n\nAll activities are included with Admission!  \n\n\n\n\nBUY TICKETS\n\n\n\n\n\n\n\n\nRescued animals this weekend will include: \n\n\n\nOpossums and flying squirrelsSnakes\, frogs and other reptilesGopher tortoises and turtlesRaptors and exotic birdsAnd More!\n\n\n\nRescued wildlife presented by Owl’s Nest Sanctuary and Seaside Seabird Sanctuary \n\n\n\nDue to unforeseen events\, Wild Horse Rescue Center is not able to attend as originally scheduled. \n\n\n\n\n\n\n\n    \n                                                                                                                                    \n\n\n\nCMA has implemented significant additional safety precautions to protect staff\, animals\, and guests while ensuring a fun and educational visit with limited guests. \n\n\n\nPrices\, dates\, times and other details subject to change.
URL:https://www.cmaquarium.org/event/go-wild-weekend-2/
LOCATION:Clearwater Marine Aquarium\, 249 Windward Passage\, Clearwater\, FL\, 33767\, United States
CATEGORIES:Special Events
ATTACH;FMTTYPE=image/jpeg:https://www.cmaquarium.org/app/uploads/2021/02/GoWild-1920x1080-1.jpg
END:VEVENT
END:VCALENDAR