BEGIN:VCALENDAR
VERSION:2.0
PRODID:-//Clearwater Marine Aquarium - ECPv5.2.1//NONSGML v1.0//EN
CALSCALE:GREGORIAN
METHOD:PUBLISH
X-WR-CALNAME:Clearwater Marine Aquarium
X-ORIGINAL-URL:https://www.cmaquarium.org
X-WR-CALDESC:Events for Clearwater Marine Aquarium
BEGIN:VTIMEZONE
TZID:America/New_York
BEGIN:DAYLIGHT
TZOFFSETFROM:-0500
TZOFFSETTO:-0400
TZNAME:EDT
DTSTART:20170312T070000
END:DAYLIGHT
BEGIN:STANDARD
TZOFFSETFROM:-0400
TZOFFSETTO:-0500
TZNAME:EST
DTSTART:20171105T060000
END:STANDARD
END:VTIMEZONE
BEGIN:VEVENT
DTSTART;TZID=America/New_York:20170502T000000
DTEND;TZID=America/New_York:20170502T235900
DTSTAMP:20260421T164630
CREATED:20170426T184315Z
LAST-MODIFIED:20180927T152058Z
UID:7276-1493683200-1493769540@www.cmaquarium.org
SUMMARY:Give Day Tampa Bay
DESCRIPTION:Experience Details\n\n\n\n\n\n\n\n\nAbout the Event\n\n\nWe have had 20 sea turtle intakes just in the month of April. These sea turtle patients come in due to various issues including the fibropapilloma virus\, boat strikes\, plastic ingestion\, etc. Clearwater Marine Aquarium is in need of many items including medical equipment\, special diets and medications in order to care for these rehab patients. \nWe’re excited to be part of Give Day Tampa Bay 2017 on May 2. Please visit our Give Day page here and donate to support our continued efforts. It is our mission to rescue\, rehabilitate and release\, and you can help us achieve this. \nDonate Now \n \nCurrent green sea turtle patient\, Apple Jacks suffered a boat strike and also has the fibropapilloma virus. \n \nGreen sea turtle\, Chex\, passed this entire balloon and string after ingesting it in the wild! This is a lesson for all of us to not release balloons and be sure to properly dispose of them.
URL:https://www.cmaquarium.org/event/give-day-tampa-bay/
LOCATION:Clearwater Marine Aquarium\, 249 Windward Passage\, Clearwater\, FL\, 33767\, United States
CATEGORIES:Fundraising Events
END:VEVENT
END:VCALENDAR