BEGIN:VCALENDAR
VERSION:2.0
PRODID:-//Clearwater Marine Aquarium - ECPv5.2.1//NONSGML v1.0//EN
CALSCALE:GREGORIAN
METHOD:PUBLISH
X-WR-CALNAME:Clearwater Marine Aquarium
X-ORIGINAL-URL:https://www.cmaquarium.org
X-WR-CALDESC:Events for Clearwater Marine Aquarium
BEGIN:VTIMEZONE
TZID:UTC
BEGIN:STANDARD
TZOFFSETFROM:+0000
TZOFFSETTO:+0000
TZNAME:UTC
DTSTART:20200101T000000
END:STANDARD
END:VTIMEZONE
BEGIN:VEVENT
DTSTART;TZID=UTC:20200522T100000
DTEND;TZID=UTC:20200702T183000
DTSTAMP:20260422T200848
CREATED:20200619T192550Z
LAST-MODIFIED:20200619T192550Z
UID:43332-1590141600-1593714600@www.cmaquarium.org
SUMMARY:Florida Resident Reopening Special
DESCRIPTION:Buy Tickets\n\n\n\n\n\n\n\n\n\nAbout the Event\n\n\n\nFLORIDA RESIDENTS* RECEIVE SPECIAL ADMISSION MAY 22-JULY 2 \n\n\n\nAfter being closed to the public for 60 days\, Clearwater Marine Aquarium is offering restless Floridians another reason to visit the rescued animals at our working marine animal hospital. Beginning Friday\, May 22\, CMA is running a Florida Resident Reopening Special. Now extended through July 2\, 2020! Come welcome our new resident rescued dolphin! Adult admission is $19.99 and admission for kids 3-12 is $15.99 for Florida residents. \n\n\n\nIncludes entry to Clearwater Marine Aquarium\, the home of Winter the Dolphin! Visit the inspiration behind the Dolphin Tale movies and experience the world of marine life rescue. \n\n\n\nMay 22-July 2\, 2020Florida Resident Reopening Special Admission:$19.99 – Adults & Seniors$15.99 – Kids (3-12)FREE – Children 2 and Under \n\n\n\nAll guests are also invited to enjoy special reopening pricing for the educational and relaxing 60-minute Dolphin and Wildlife eco-boat tours at $14.99. \n\n\n\n\nBuy Tickets\n\n\n\n\nReservations are required! CMA has implemented significant additional safety precautions to protect staff\, animals\, and guests while ensuring a fun and educational visit with limited guests. \n\n\n\n*Proof of Florida residency required at check-in for each adult ticket purchase. Accepted Documents: FL issued Driver’s License\, FL issued ID card\, or FL Voters registration cards only. If proof of Florida residency is not presented\, guests will be asked to pay the difference at Ticketing. Special is valid May 22-July 2\, 2020\, and cannot be combined with any other offer. Prices\, details and dates subject to change.
URL:https://www.cmaquarium.org/event/florida-resident-reopening-special/
LOCATION:Clearwater Marine Aquarium\, 249 Windward Passage\, Clearwater\, FL\, 33767\, United States
ATTACH;FMTTYPE=image/jpeg:https://www.cmaquarium.org/app/uploads/2020/06/Florida-Resident-Special-3.jpg
END:VEVENT
END:VCALENDAR