BEGIN:VCALENDAR
VERSION:2.0
PRODID:-//Clearwater Marine Aquarium - ECPv5.2.1//NONSGML v1.0//EN
CALSCALE:GREGORIAN
METHOD:PUBLISH
X-WR-CALNAME:Clearwater Marine Aquarium
X-ORIGINAL-URL:https://www.cmaquarium.org
X-WR-CALDESC:Events for Clearwater Marine Aquarium
BEGIN:VTIMEZONE
TZID:America/New_York
BEGIN:DAYLIGHT
TZOFFSETFROM:-0500
TZOFFSETTO:-0400
TZNAME:EDT
DTSTART:20240310T070000
END:DAYLIGHT
BEGIN:STANDARD
TZOFFSETFROM:-0400
TZOFFSETTO:-0500
TZNAME:EST
DTSTART:20241103T060000
END:STANDARD
END:VTIMEZONE
BEGIN:VEVENT
DTSTART;TZID=America/New_York:20240314T093000
DTEND;TZID=America/New_York:20240314T123000
DTSTAMP:20260419T173202
CREATED:20240111T184850Z
LAST-MODIFIED:20240228T014715Z
UID:60314-1710408600-1710419400@www.cmaquarium.org
SUMMARY:Flippered Friends Snorkel Adventure - Marine Science Family Mini-Camps
DESCRIPTION:Embark on an exciting school break adventure with Clearwater Marine Aquarium at our Marine Science Family Mini-Camps! \n\n\n\n\n\n\n\n\n\nBook Now\n\n\n\n\n\n\n\n\n\nFlippered Friends Snorkel Adventure \n\n\n\nPrepare for a fin-tastic family adventure centered around our flippered friends – dolphins! Dive into a 90-minute snorkeling session to explore where bottlenose dolphins live in the wild and learn cool facts about Clearwater Marine Aquarium’s dorsal ID research program. Discover the incredible world of dolphins through fun lessons uncovering their behaviors\, communication\, and why they’re so important. Get crafty with hands-on projects\, and join in entertaining games while you learn more about these awesome sea creatures. Get ready to make memories that’ll have you saying the experience was “dolphinitely unforgettable!” Guests will need to provide their own snorkeling gear\, closed-toe water shoes\, and towels. Snorkel vests are required to be worn by each participant and will be provided. All Snorkel Adventures are contingent upon weather conditions. \n\n\n\nThrilling Topics: Each day brings a new and exciting marine science topic to explore. Choose a single session or dive into the complete adventure by participating in all three sessions per break!Hands-on Activities: Dive into hands-on experiments and delightful activities that make learning fun and easy. On select days in the spring\, dive into the excitement of snorkeling to explore marine wonders up close!Family Fun: Parents and guardians\, get ready to be amazed alongside your young ocean enthusiasts! Adults must be accompanied by a participant 18 and under. Participants under 18 must be with an adult.Admission Included: Enjoy admission for each participant at the end of every program.\n\n\n\nMini-Camp Dates: \n\n\n\nTidal Tales Snorkel Adventure – March 12Tour de U.S.A – March 13Flippered Friends Snorkel Adventure – March 14\n\n\n\nPlease Note:  \n\n\n\nPRICE: $40 per person per indoor session; $45 per person per snorkeling session; $115 per person for all three sessions. Please call to book and receive discount for multiple camps and include the number. \n\n\n\nInclement Weather Policy Florida is prone to thunderstorms\, tropical storms\, red tide\, and even hurricanes. There may be times when normal family mini-camp schedules need to be altered due to inclement weather or unsafe water conditions\, such as extremely high tides rendering the water unsuitable for snorkeling. In these instances\, Clearwater Marine Aquarium has indoor classroom activities planned for participants. For mini-camps that include snorkeling or any other outdoor activities\, we will adjust our outdoor schedules in the event of inclement weather or water conditions for the safety of our guests. We will make every effort to resume normal camp schedules on inclement weather days as soon as possible. Since Clearwater Marine Aquarium does not have control over inclement weather or water conditions\, we cannot guarantee that guests in these mini-camps will snorkel or participate in an outdoor activity. Therefore\, we will not issue full or partial refunds due to inclement weather. \n\n\n\nFor more information\, please contact: csmith@cmaquarium.org or call 727-441-1790 x 2262. \n\n\n\n\nLearn More
URL:https://www.cmaquarium.org/event/flippered-friends-snorkel-adventure-marine-science-family-mini-camps/
LOCATION:Clearwater Marine Aquarium\, 249 Windward Passage\, Clearwater\, FL\, 33767\, United States
ATTACH;FMTTYPE=image/jpeg:https://www.cmaquarium.org/app/uploads/2023/04/Camp-Snorkel-2022.07.07-5-2.jpg
END:VEVENT
END:VCALENDAR