BEGIN:VCALENDAR
VERSION:2.0
PRODID:-//Clearwater Marine Aquarium - ECPv5.2.1//NONSGML v1.0//EN
CALSCALE:GREGORIAN
METHOD:PUBLISH
X-WR-CALNAME:Clearwater Marine Aquarium
X-ORIGINAL-URL:https://www.cmaquarium.org
X-WR-CALDESC:Events for Clearwater Marine Aquarium
BEGIN:VTIMEZONE
TZID:America/New_York
BEGIN:DAYLIGHT
TZOFFSETFROM:-0500
TZOFFSETTO:-0400
TZNAME:EDT
DTSTART:20240310T070000
END:DAYLIGHT
BEGIN:STANDARD
TZOFFSETFROM:-0400
TZOFFSETTO:-0500
TZNAME:EST
DTSTART:20241103T060000
END:STANDARD
END:VTIMEZONE
BEGIN:VEVENT
DTSTART;TZID=America/New_York:20240615T090000
DTEND;TZID=America/New_York:20240616T180000
DTSTAMP:20260421T150349
CREATED:20240523T161121Z
LAST-MODIFIED:20240608T174644Z
UID:63519-1718442000-1718560800@www.cmaquarium.org
SUMMARY:Father's Day Weekend
DESCRIPTION:Dads receive 50% off adult admission ticket with the purchase of any admission on June 15-16\, 2024.* \n\n\n\n\n\n\n\n\nFather’s Day Weekend Admission\n\n\n\nDads receive 50% off adult admission June 15-16\, 2024\, with the purchase of any admission ticket!* \n\n\n\n\nGET TICKETS\n\n\n\n\n*Offer valid June 15-16\, 2024\, onsite at Ticketing or online with the purchase of a full-priced admission ticket. Not valid with Appreciation Admission tickets. Offer cannot be combined with other discounts or promotions and subject to change.  \n\n\n\n\n\n\n\n\n\nFather‘s Day Weekend Cars & Jeeps\n\n\n\n\nSee a special collection of classic cars including Corvettes and customized Jeeps on display at Clearwater Marine Aquarium this Father’s Day weekend\, June 14-16\, presented by Bruiser Conversions. \n\n\n\n\n\n\n\n\n\n\nLights by the Bay Drone Light Show on June 15\n\n\n\nExperience the ultimate celebration under the stars at Clearwater Marine Aquarium’s Lights by the Bay event on June 15\, 2024\, as we celebrate Father’s Day and family fun this Summer! \n\n\n\n\n\n\n\n\nLEARN MORE\n\n\n\n\nPlease Note: This Lights by the Bay event is not included with general admission. The Father’s Day admission offer does not apply to Lights by the Bay tickets. Separate Lights by the Bay tickets are required to attend this special event. \n\n\n\n\n\n\n\n\n\n\n\n\n\n\n\n\n\n\nBuy Tickets
URL:https://www.cmaquarium.org/event/fathers-day-weekend-2024/
LOCATION:Clearwater Marine Aquarium\, 249 Windward Passage\, Clearwater\, FL\, 33767\, United States
ATTACH;FMTTYPE=image/jpeg:https://www.cmaquarium.org/app/uploads/2024/05/Hope-with-Guest-4-scaled.jpg
END:VEVENT
END:VCALENDAR