BEGIN:VCALENDAR
VERSION:2.0
PRODID:-//Clearwater Marine Aquarium - ECPv5.2.1//NONSGML v1.0//EN
CALSCALE:GREGORIAN
METHOD:PUBLISH
X-WR-CALNAME:Clearwater Marine Aquarium
X-ORIGINAL-URL:https://www.cmaquarium.org
X-WR-CALDESC:Events for Clearwater Marine Aquarium
BEGIN:VTIMEZONE
TZID:America/New_York
BEGIN:DAYLIGHT
TZOFFSETFROM:-0500
TZOFFSETTO:-0400
TZNAME:EDT
DTSTART:20220313T070000
END:DAYLIGHT
BEGIN:STANDARD
TZOFFSETFROM:-0400
TZOFFSETTO:-0500
TZNAME:EST
DTSTART:20221106T060000
END:STANDARD
END:VTIMEZONE
BEGIN:VEVENT
DTSTART;TZID=America/New_York:20221227T100000
DTEND;TZID=America/New_York:20221227T120000
DTSTAMP:20260422T200848
CREATED:20220913T202032Z
LAST-MODIFIED:20221115T204105Z
UID:52633-1672135200-1672142400@www.cmaquarium.org
SUMMARY:Family Fun Days
DESCRIPTION:Spend your school breaks with Clearwater Marine Aquarium! \n\n\n\n\n\n\n\n\n\nGET TICKETS\n\n\n\n\n\nAbout the Session\n\n\n\nSpend your school breaks with Clearwater Marine Aquarium! Participants will explore Clearwater Marine Aquarium and enjoy fun\, educational programming all about our work at CMA. Each morning has a specific marine science focus to explore. Available for ages 5 and up. Adults must be accompanied by a participant 18 and under. Participants under 18 years old must be accompanied by an adult. Aquarium admission is included at the conclusion of the program. \n\n\n\nDecember 27 – There’s Snow Place Like CMA\n\n\n\nJoin us as we learn all about Florida marine life and their ability to live in cold weather through fun-filled educational games and activities. Discover how blubber and fur work to keep animals warm during colder weather in Florida. Spend time in the aquarium seeing animal adaptations in action as we compare animal adaptations here in Florida and the coldest regions of the world.  \n\n\n\nPlease call: 727-441-1790 ext. 2262 for questions and more information. \n\n\n\n\nGET TICKETS
URL:https://www.cmaquarium.org/event/family-fun-days-4/
LOCATION:Clearwater Marine Aquarium\, 249 Windward Passage\, Clearwater\, FL\, 33767\, United States
ATTACH;FMTTYPE=image/jpeg:https://www.cmaquarium.org/app/uploads/2022/09/Rescue-Town-Marketing-0073-scaled.jpg
END:VEVENT
END:VCALENDAR