BEGIN:VCALENDAR
VERSION:2.0
PRODID:-//Clearwater Marine Aquarium - ECPv5.2.1//NONSGML v1.0//EN
CALSCALE:GREGORIAN
METHOD:PUBLISH
X-WR-CALNAME:Clearwater Marine Aquarium
X-ORIGINAL-URL:https://www.cmaquarium.org
X-WR-CALDESC:Events for Clearwater Marine Aquarium
BEGIN:VTIMEZONE
TZID:America/New_York
BEGIN:DAYLIGHT
TZOFFSETFROM:-0500
TZOFFSETTO:-0400
TZNAME:EDT
DTSTART:20220313T070000
END:DAYLIGHT
BEGIN:STANDARD
TZOFFSETFROM:-0400
TZOFFSETTO:-0500
TZNAME:EST
DTSTART:20221106T060000
END:STANDARD
END:VTIMEZONE
BEGIN:VEVENT
DTSTART;TZID=America/New_York:20221122T100000
DTEND;TZID=America/New_York:20221122T120000
DTSTAMP:20260423T065356
CREATED:20220913T201953Z
LAST-MODIFIED:20221117T220319Z
UID:52629-1669111200-1669118400@www.cmaquarium.org
SUMMARY:Family Fun Days - Home Sweet Home Boat Tour
DESCRIPTION:Spend your school breaks with Clearwater Marine Aquarium! \n\n\n\n\n\n\n\n\n\nGET TICKETS\n\n\n\n\n\nAbout the Session\n\n\n\nSpend your school breaks with Clearwater Marine Aquarium! Participants will explore Clearwater Marine Aquarium and enjoy fun\, educational programming all about our work at CMA. Each morning has a specific marine science focus to explore. Available for ages 5 and up. Adults must be accompanied by a participant 18 and under. Participants under 18 years old must be accompanied by an adult.  \n\n\n\nAquarium admission is included at the conclusion of the program. \n\n\n\nNovember 21 – Whaley Grateful\n\n\n\nExplore why Clearwater Marine Aquarium is thankful for the animals we rescue and research! Did you know all dolphins are whales? Come learn about our resident bottlenose and rough-toothed dolphins through games and activities that will get the whole family involved. Investigate the difference between toothed and baleen whales as we discuss the right whales that Clearwater Marine Aquarium Research Institute studies. \n\n\n\nNovember 22 – Home Sweet Home Boat Tour\n\n\n\nJoin us for a 90-minute scenic eco-boat tour cruise around the Clearwater Bay estuary\, which is home to many resident dolphins and marine life species. Learn about the wild dolphin population that calls the estuary home as we take a boat tour of the Bay. Be a part of citizen science and observe data collection in action as we perform a net pull and conduct a “show and tell” on board of sea creatures found in the grass beds and sand flats of the bay.  \n\n\n\nMinimum Number of Participants: 15 participants \n\n\n\nMaximum Number of Participants: 40 participants \n\n\n\n* Weather permitting \n\n\n\nNovember 23 – You Otter Be Thankful\n\n\n\nSpend time as a family before the holiday begins with Clearwater Marine Aquarium! Discover the differences between sea otters and river otters. Explore the habitat of each species through fun games\, activities\, and experiments. Learn the stories of our rescued resident river otters\, Walle and Boomer. \n\n\n\nPlease call: 727-441-1790 ext. 2262 for questions and more information. \n\n\n\n\nGET TICKETS
URL:https://www.cmaquarium.org/event/family-fun-days-2/
LOCATION:Clearwater Marine Aquarium\, 249 Windward Passage\, Clearwater\, FL\, 33767\, United States
ATTACH;FMTTYPE=image/jpeg:https://www.cmaquarium.org/app/uploads/2022/09/Rescue-Town-Marketing-0073-scaled.jpg
END:VEVENT
END:VCALENDAR