BEGIN:VCALENDAR
VERSION:2.0
PRODID:-//Clearwater Marine Aquarium - ECPv5.2.1//NONSGML v1.0//EN
CALSCALE:GREGORIAN
METHOD:PUBLISH
X-WR-CALNAME:Clearwater Marine Aquarium
X-ORIGINAL-URL:https://www.cmaquarium.org
X-WR-CALDESC:Events for Clearwater Marine Aquarium
BEGIN:VTIMEZONE
TZID:America/New_York
BEGIN:DAYLIGHT
TZOFFSETFROM:-0500
TZOFFSETTO:-0400
TZNAME:EDT
DTSTART:20170312T070000
END:DAYLIGHT
BEGIN:STANDARD
TZOFFSETFROM:-0400
TZOFFSETTO:-0500
TZNAME:EST
DTSTART:20171105T060000
END:STANDARD
END:VTIMEZONE
BEGIN:VEVENT
DTSTART;TZID=America/New_York:20171022T080000
DTEND;TZID=America/New_York:20171022T100000
DTSTAMP:20260423T122626
CREATED:20171004T200216Z
LAST-MODIFIED:20180730T171336Z
UID:10649-1508659200-1508666400@www.cmaquarium.org
SUMMARY:Coastal Cleanup
DESCRIPTION:Experience Details\n\n\n\n\n\n\n\n\n\nCoastal Cleanup – Memorial Causeway\nJoin the team at Clearwater Marine Aquarium as we clean up the Memorial Causeway! Refreshments\, water filling station\, prizes and cleanup supplies will be provided. Help us “Go Green” by reducing the use of single use plastic trash bags. Bring your own trash collection container (5-gallon bucket\, plastic cat litter container\, or large basket). \nParticipants may park  at 127 Island Way Clearwater\, FL 33767.\nCheck-in tent will be at the corner of Memorial Causeway and Island Way and will begin at 7:30 a.m. Cleanup will be 8 a.m. – 10 a.m. \nOne free Clearwater Marine Aquarium general admission ticket per participant will be distributed. \nDON’T FORGET TO BRING: \n• Refillable water bottle\n• Sunblock\n• Hat/Sunglasses\n• Closed toed shoes\n• Insect repellent
URL:https://www.cmaquarium.org/event/coastal-cleanup/
LOCATION:127 Island Way Clearwater\, FL 33767\, 127 Island Way\, Clearwater\, FL\, 33767\, United States
CATEGORIES:Special Promotions,Education
ATTACH;FMTTYPE=image/jpeg:https://www.cmaquarium.org/app/uploads/2017/10/cleanup-375.jpg
GEO:27.9787473;-82.8159623
X-APPLE-STRUCTURED-LOCATION;VALUE=URI;X-ADDRESS=127 Island Way Clearwater FL 33767 127 Island Way Clearwater FL 33767 United States;X-APPLE-RADIUS=500;X-TITLE=127 Island Way:geo:-82.8159623,27.9787473
END:VEVENT
END:VCALENDAR