BEGIN:VCALENDAR
VERSION:2.0
PRODID:-//Clearwater Marine Aquarium - ECPv5.2.1//NONSGML v1.0//EN
CALSCALE:GREGORIAN
METHOD:PUBLISH
X-WR-CALNAME:Clearwater Marine Aquarium
X-ORIGINAL-URL:https://www.cmaquarium.org
X-WR-CALDESC:Events for Clearwater Marine Aquarium
BEGIN:VTIMEZONE
TZID:America/New_York
BEGIN:DAYLIGHT
TZOFFSETFROM:-0500
TZOFFSETTO:-0400
TZNAME:EDT
DTSTART:20220313T070000
END:DAYLIGHT
BEGIN:STANDARD
TZOFFSETFROM:-0400
TZOFFSETTO:-0500
TZNAME:EST
DTSTART:20221106T060000
END:STANDARD
END:VTIMEZONE
BEGIN:VEVENT
DTSTART;TZID=America/New_York:20220820T130000
DTEND;TZID=America/New_York:20220820T140000
DTSTAMP:20260421T043458
CREATED:20220728T150450Z
LAST-MODIFIED:20220817T124642Z
UID:52097-1661000400-1661004000@www.cmaquarium.org
SUMMARY:Author Talk and Book Signing With David Yates
DESCRIPTION:Meet David Yates\, author of the new book\, Swimming UPstream\, at Clearwater Marine Aquarium on August 20.  \n\n\n\n\n\n\n\n\n\n\n\n\n\nBUY TICKETS\n\n\n\n\nIncluded with admission to Clearwater Marine Aquarium.  \n\n\n\n\n\n\n\n\nAuthor Talk and Book Signing Event Details\n\n\n\nJoin author\, producer and former CEO David Yates for a special talk about his new book and his time with Winter the Dolphin at Clearwater Marine Aquarium\, followed by a book signing opportunity on August 20\, 2022. \n\n\n\n1:00 p.m. – Tale Talk in Dolphin Tale Theater – Located on level 41:30 p.m. – Book signing at gift shop – Located on level 3\n\n\n\nAquarium admission is required to attend this event. Anyone with a copy of the book Swimming UPstream will be granted free admission to attend the event on August 20. Additional copies of the book are available for purchase at Clearwater Marine Aquarium. \n\n\n\n\nORDER THE BOOK\n\n\n\n\nAbout David Yates and Swimming UPstream\n\n\n\nAfter a career of inspiring millions with the IRONMAN and Dolphin Tale movies\, David Yates recounts his experiences in the newly released book\, Swimming UPstream. The book travels through his troubled childhood\, raised by a schizophrenic mother\, to living an overcoming successful life with a BIG purpose; using his skills to motivate and inspire people in every country of the world and doing it in two different periods of his life at two different organizations. And he started out as an accountant! A true déjà vu story of thinking big\, never giving up\, and seeing that you\, yes you\, can have a much bigger purpose than you think. David doesn’t want you to find your purpose\, he wants you to find your BIG God-given purpose. You will experience numerous overcoming emotional stories of children and wounded soldiers that David has worked with. Buy your autographed copy now and be on your way to changing the trajectory of your life\, and never look back.  \n\n\n\nDavid produced both Dolphin Tale major motion pictures and the real-life documentary on Winter the Dolphin\, Winter the Dolphin That Can! He has also co-authored the successful Scholastic book Hope for Winter\, the inspiring real-life story behind the movie Dolphin Tale 2.
URL:https://www.cmaquarium.org/event/author-talk-book-signing-with-david-yates/
LOCATION:Clearwater Marine Aquarium\, 249 Windward Passage\, Clearwater\, FL\, 33767\, United States
ATTACH;FMTTYPE=image/jpeg:https://www.cmaquarium.org/app/uploads/2022/07/1200x628-image-4cover_FB.jpg
END:VEVENT
END:VCALENDAR