BEGIN:VCALENDAR
VERSION:2.0
PRODID:-//Clearwater Marine Aquarium - ECPv5.2.1//NONSGML v1.0//EN
CALSCALE:GREGORIAN
METHOD:PUBLISH
X-WR-CALNAME:Clearwater Marine Aquarium
X-ORIGINAL-URL:https://www.cmaquarium.org
X-WR-CALDESC:Events for Clearwater Marine Aquarium
BEGIN:VTIMEZONE
TZID:America/New_York
BEGIN:DAYLIGHT
TZOFFSETFROM:-0500
TZOFFSETTO:-0400
TZNAME:EDT
DTSTART:20170312T070000
END:DAYLIGHT
BEGIN:STANDARD
TZOFFSETFROM:-0400
TZOFFSETTO:-0500
TZNAME:EST
DTSTART:20171105T060000
END:STANDARD
END:VTIMEZONE
BEGIN:VEVENT
DTSTART;TZID=America/New_York:20170224T090000
DTEND;TZID=America/New_York:20170227T180000
DTSTAMP:20260421T161756
CREATED:20170112T162335Z
LAST-MODIFIED:20180730T165029Z
UID:4849-1487926800-1488218400@www.cmaquarium.org
SUMMARY:Animal Training Workshop
DESCRIPTION:Experience Details\n\n\n\n\n\n\n\n\nAbout the Event\n\n\nLearn what it takes to be an animal trainer from industry leaders with CMA and Precision Behavior!Thad Lacinak & Angi Millwood are the founders/ owners of Precision Behavior. They have worked and consulted at over 60 aquariums & zoos in more than 20 countries. They have authored numerous papers and Thad is the co-author of three Whale Done books. He was also featured in a white shark T.V. special\, “Beyond the Cage of Fear.” Thad and Angi also produced and are featured in the upcoming documentary\, “Elephant in the Room.” Thad enjoyed a 35-year career at SeaWorld and Busch Gardens and retired as the Vice President & Corporate Curator of Animal Training and Enrichment. Angi was on the opening team of Disney’s Animal Kingdom\, was a manager of marine mammals at Atlantis\, the Palm\, in Dubai\, and was the Animal Training Coordinator of the Fort Worth Zoo. \nLEARN MORE AND REGISTER HERE
URL:https://www.cmaquarium.org/event/animal-training-workshop/
LOCATION:Clearwater Marine Aquarium\, 249 Windward Passage\, Clearwater\, FL\, 33767\, United States
CATEGORIES:Workshop
END:VEVENT
END:VCALENDAR